BEGIN:VCALENDAR
VERSION:2.0
PRODID:-//intern.rheinruhrphilharmonie.de//NONSGML kigkonsult.se iCalcreator 2.41.92//
CALSCALE:GREGORIAN
METHOD:PUBLISH
UID:35623737-6364-4666-b463-373662343334
X-WR-CALNAME:Rhein-Ruhr Philharmonie
X-WR-CALDESC:Concerts
X-WR-TIMEZONE:Europe/Stockholm
BEGIN:VTIMEZONE
TZID:Europe/Stockholm
TZUNTIL:20271031T010000Z
BEGIN:STANDARD
TZNAME:CET
DTSTART:20251026T030000
TZOFFSETFROM:+0200
TZOFFSETTO:+0100
RDATE:20261025T030000
END:STANDARD
BEGIN:DAYLIGHT
TZNAME:CEST
DTSTART:20250330T020000
TZOFFSETFROM:+0100
TZOFFSETTO:+0200
RDATE:20260329T020000
RDATE:20270328T020000
END:DAYLIGHT
END:VTIMEZONE
BEGIN:VEVENT
UID:33643935-6563-4638-b038-343632323434
DTSTAMP:20260420T084205Z
DESCRIPTION:Frühjahrskonzert - Aus der neuen Welt\, weitere Informationen: 
 https://www.rheinruhrphilharmonie.de
DTSTART;TZID=Europe/Stockholm:20260315T163000
DTEND;TZID=Europe/Stockholm:20260315T193000
LOCATION:Anneliese Brost Musikforum Ruhr\, Marienplatz 1\, Bochum
SUMMARY:Rhein-Ruhr Philharmonie Konzert
END:VEVENT
END:VCALENDAR
